BEGIN:VCALENDAR
VERSION:2.0
PRODID:-//wp-events-plugin.com//7.2.3.1//EN
TZID:America/New_York
X-WR-TIMEZONE:America/New_York
BEGIN:VEVENT
UID:79@nysspe-nyc.org
DTSTART;TZID=America/New_York;VALUE=DATE:20210604
DTEND;TZID=America/New_York;VALUE=DATE:20210606
DTSTAMP:20210424T213455Z
URL:https://nysspe-nyc.org/events/nysspe-2021-annual-conference/
SUMMARY:NYSSPE 2021 Annual Conference
DESCRIPTION:[et_pb_section fb_built="1" _builder_version="4.6.6" _module_pr
 eset="default"][et_pb_row _builder_version="4.6.6" _module_preset="default
 "][et_pb_column type="4_4" _builder_version="4.6.6" _module_preset="defaul
 t"][et_pb_image src="https://nysspe-nyc.org/wp-content/uploads/2021/04/hol
 iday-inn-saratoga-springs-5232934344-16x5-1.jpg" title_text="holiday-inn-s
 aratoga-springs-5232934344-16x5" _builder_version="4.9.3" _module_preset="
 default"][/et_pb_image][et_pb_text _builder_version="4.9.3" _module_preset
 ="default" border_width_all="1px" border_color_all="#000000" box_shadow_st
 yle="preset1" box_shadow_color="rgba(0\,0\,0\,0.22)"]\n\n\n\n\nNYSSPE 2021
  Annual ConferenceJune 4th &amp\; 5thHoliday Inn\, Saratoga Springs\, NY\n
 \n\n\nWe want to see you again!CDC guidelines will be followed - face cove
 ring required &amp\; social distancing.\nNetwork with peers\, enhance your
  practice and earn up to 5 PDHs\nYou will also have access to our exhibito
 rs who will be showcasing great productsthat can help your career and busi
 ness\nSeminar Topic will include:Municipal Portable Water &amp\; Wastewate
 r Management Using GPSThe Changing Climate of Climate change: Exploring Pe
 rspectivesHistory of Buffalo's Sewers and Impacts on Modern ProjectsForens
 ic Engineering - the Expert is YouProfessional Liability - Professional Mi
 sconduct - Ethical Considerations for the PE in NYS\nHoliday Inn\, 232 Bro
 adway\, Saratoga Springs\, NY\nHotel Reservations are to be made directly 
 with the Holiday InnRoom rate $169Rooms MUST be booked by: May 17\, 2021\
 nWhenJune 4th &amp\; 5th\, 2021\nWhereHoliday Inn232 Broadway (Rt. 9)\, Sa
 ratoga Springs\, New York\, 12866\nCost:Registration Fee:  $175 (until Ma
 y 17th)Registration Fee: $195 (after May 17th until June 2nd)Lunch: $25Din
 ner &amp\; Installation of officers:  $70\nExhibitors:EJ PrescottEljen Co
 rporationMeMDSiewert Equipment\nWebsite Links: \nClick here to view Meeti
 ng Summary/Hotel\nClick here to view Agenda/Schedule\nClick here to Regist
 er\nRegistration Deadline / Online registration will closeJune 2nd at 10:0
 0pm\n\n\n\n \n\n\n \n\n\n \n\n\n[/et_pb_text][/et_pb_column][/et_pb_row
 ][et_pb_row _builder_version="4.9.3" _module_preset="default"][et_pb_colum
 n type="4_4" _builder_version="4.9.3" _module_preset="default"][/et_pb_col
 umn][/et_pb_row][/et_pb_section]
CATEGORIES:Social/PDH Event
LOCATION:Holiday Inn\, 232 Broadway (Rt. 9)\, Saratoga Springs\, New York\,
  12866\, North East\, United States
X-APPLE-STRUCTURED-LOCATION;VALUE=URI;X-ADDRESS=232 Broadway (Rt. 9)\, Sara
 toga Springs\, New York\, 12866\, North East\, United States;X-APPLE-RADIU
 S=100;X-TITLE=Holiday Inn:geo:0,0
END:VEVENT
BEGIN:VTIMEZONE
TZID:America/New_York
X-LIC-LOCATION:America/New_York
BEGIN:DAYLIGHT
DTSTART:20210314T030000
TZOFFSETFROM:-0500
TZOFFSETTO:-0400
TZNAME:EDT
END:DAYLIGHT
END:VTIMEZONE
END:VCALENDAR