BEGIN:VCALENDAR
VERSION:2.0
PRODID:-//wp-events-plugin.com//7.2.3.1//EN
TZID:America/New_York
X-WR-TIMEZONE:America/New_York
BEGIN:VEVENT
UID:127@nysspe-nyc.org
DTSTART;TZID=America/New_York:20251119T173000
DTEND;TZID=America/New_York:20251119T190000
DTSTAMP:20251029T212747Z
URL:https://nysspe-nyc.org/events/november-2025/
SUMMARY:November 2025 Event
DESCRIPTION:The NYSSPE's New York Chapter is thrilled to announce a Virtual
  Presentation on Wednesday\, November 19. We're delighted to welcome back 
 Joseph M. Englot\, PE from HNTB\, as our featured speaker. Attendees will 
 earn 1 PDH credit for joining. You'll get the access link from Dianna befo
 re the event. Check out the flyer below or reach out to Dianna at dianna.k
 eable@vrxglobal.com for more information or any questions.\n\n
CATEGORIES:Social/PDH Event
LOCATION:Virtual Event\, Virtual\, New York\, United States
X-APPLE-STRUCTURED-LOCATION;VALUE=URI;X-ADDRESS=Virtual\, New York\, United
  States;X-APPLE-RADIUS=100;X-TITLE=Virtual Event:geo:0,0
END:VEVENT
BEGIN:VTIMEZONE
TZID:America/New_York
X-LIC-LOCATION:America/New_York
BEGIN:STANDARD
DTSTART:20251102T010000
TZOFFSETFROM:-0400
TZOFFSETTO:-0500
TZNAME:EST
END:STANDARD
END:VTIMEZONE
END:VCALENDAR