BEGIN:VCALENDAR
VERSION:2.0
PRODID:-//wp-events-plugin.com//7.2.3.1//EN
TZID:America/New_York
X-WR-TIMEZONE:America/New_York
BEGIN:VEVENT
UID:102@nysspe-nyc.org
DTSTART;TZID=America/New_York:20231116T173000
DTEND;TZID=America/New_York:20231116T200000
DTSTAMP:20231116T144348Z
URL:https://nysspe-nyc.org/events/november-2023-event/
SUMMARY:November 2023 Event
DESCRIPTION:The New York Chapter of NYSSPE is excited to host a special eve
 nt on Thursday\, November 16. We are honored to have NYCDDC First Deputy C
 ommissioner\, Eric Macfarlane\, as the speaker for the event. The presenta
 tion is titled ”Upgrading Infrastructure in New York City”.\n\nThe eve
 nt will take place at the Cornell Club of New York City. Come and join us 
 for dinner and networking\, and get 1 PDH. Each person gets a FREE drink w
 ith each ticket. See the Flyer below or contact Wanda Rios (wrios@kseng.co
 m) for details or questions.\n\n\n\n&nbsp\;
CATEGORIES:Social/PDH Event
LOCATION:The Cornell Club - Ivy Room\, 6 East 44th St\, New York\, NY\, 100
 17\, United States
X-APPLE-STRUCTURED-LOCATION;VALUE=URI;X-ADDRESS=6 East 44th St\, New York\,
  NY\, 10017\, United States;X-APPLE-RADIUS=100;X-TITLE=The Cornell Club - 
 Ivy Room:geo:0,0
END:VEVENT
BEGIN:VTIMEZONE
TZID:America/New_York
X-LIC-LOCATION:America/New_York
BEGIN:STANDARD
DTSTART:20231105T010000
TZOFFSETFROM:-0400
TZOFFSETTO:-0500
TZNAME:EST
END:STANDARD
END:VTIMEZONE
END:VCALENDAR