BEGIN:VCALENDAR
VERSION:2.0
PRODID:-//wp-events-plugin.com//7.2.3.1//EN
TZID:America/New_York
X-WR-TIMEZONE:America/New_York
BEGIN:VEVENT
UID:87@nysspe-nyc.org
DTSTART;TZID=America/New_York:20221130T173000
DTEND;TZID=America/New_York:20221130T200000
DTSTAMP:20221102T193643Z
URL:https://nysspe-nyc.org/events/november-2022/
SUMMARY:November 2022 Event
DESCRIPTION:Bridge Deputy Commissioner\, Paul Schwartz P.E.\, will present 
 to our Chapter in November. The presentation is called "Union Street Bridg
 e over Gowanus Canal: A Brief History and Recent Repairs". Join us for din
 ner and networking and get 1 PDH. Each person gets a ticket for a drink. S
 ee Flyer below for more details.\n\n\n\n&nbsp\;
CATEGORIES:Social/PDH Event
LOCATION:The Cornell Club - Ivy Room\, 6 East 44th St\, New York\, NY\, 100
 17\, United States
X-APPLE-STRUCTURED-LOCATION;VALUE=URI;X-ADDRESS=6 East 44th St\, New York\,
  NY\, 10017\, United States;X-APPLE-RADIUS=100;X-TITLE=The Cornell Club - 
 Ivy Room:geo:0,0
END:VEVENT
BEGIN:VTIMEZONE
TZID:America/New_York
X-LIC-LOCATION:America/New_York
BEGIN:STANDARD
DTSTART:20221106T010000
TZOFFSETFROM:-0400
TZOFFSETTO:-0500
TZNAME:EST
END:STANDARD
END:VTIMEZONE
END:VCALENDAR