BEGIN:VCALENDAR
VERSION:2.0
PRODID:-//wp-events-plugin.com//7.2.3.1//EN
TZID:America/New_York
X-WR-TIMEZONE:America/New_York
BEGIN:VEVENT
UID:44@nysspe-nyc.org
DTSTART;TZID=America/New_York:20201101T173000
DTEND;TZID=America/New_York:20201117T200000
DTSTAMP:20210214T000603Z
URL:https://nysspe-nyc.org/events/monthly-dinner-social/
SUMMARY:November 2020 Event
DESCRIPTION:NYCDEP Commissioner\, Vincent Sapienza PE\, will provide a pres
 entation for The Delaware Aqueduct Bypass Tunnel. Join us for a virtual me
 eting and get 1 PDH. Link to access to the virtual meeting will be emailed
  to attendees following registration. See Flyer below for more details.\n\
 n\n\n&nbsp\;
CATEGORIES:Social/PDH Event
LOCATION:Virtual Event\, Virtual\, New York\, United States
X-APPLE-STRUCTURED-LOCATION;VALUE=URI;X-ADDRESS=Virtual\, New York\, United
  States;X-APPLE-RADIUS=100;X-TITLE=Virtual Event:geo:0,0
END:VEVENT
BEGIN:VTIMEZONE
TZID:America/New_York
X-LIC-LOCATION:America/New_York
BEGIN:STANDARD
DTSTART:20201101T010000
TZOFFSETFROM:-0400
TZOFFSETTO:-0500
TZNAME:EST
END:STANDARD
END:VTIMEZONE
END:VCALENDAR