BEGIN:VCALENDAR
VERSION:2.0
PRODID:-//wp-events-plugin.com//7.2.3.1//EN
TZID:America/New_York
X-WR-TIMEZONE:America/New_York
BEGIN:VEVENT
UID:74@nysspe-nyc.org
DTSTART;TZID=America/New_York:20211201T170000
DTEND;TZID=America/New_York:20211201T180000
DTSTAMP:20210107T001605Z
URL:https://nysspe-nyc.org/events/monthly-board-call-2021-12-01/
SUMMARY:Board of Directors Coordination Call
DESCRIPTION:Members are welcome to join our Monthly Calls. Please contact l
 martinek@samschwartz.com if you would like to attend.
CATEGORIES:Administration Event
END:VEVENT
BEGIN:VTIMEZONE
TZID:America/New_York
X-LIC-LOCATION:America/New_York
BEGIN:STANDARD
DTSTART:20211107T010000
TZOFFSETFROM:-0400
TZOFFSETTO:-0500
TZNAME:EST
END:STANDARD
END:VTIMEZONE
END:VCALENDAR