BEGIN:VCALENDAR
VERSION:2.0
PRODID:-//wp-events-plugin.com//7.2.3.1//EN
TZID:America/New_York
X-WR-TIMEZONE:America/New_York
BEGIN:VEVENT
UID:105@nysspe-nyc.org
DTSTART;TZID=America/New_York:20240522T173000
DTEND;TZID=America/New_York:20240522T190000
DTSTAMP:20240418T172529Z
URL:https://nysspe-nyc.org/events/may-2024-event-2/
SUMMARY:May 2024 Event
DESCRIPTION:NYSSPE is thrilled to announce a Virtual Presentation on Wednes
 day\, May 22. We're delighted to welcome Azure Dee Sleicher\, PE\, WEDG fr
 om RACE Coastal Engineering\, as our featured speaker. Attendees will earn
  1 PDH credit for joining. PDH can be counted as one hour of continuing ed
 ucation for Professional Engineers\, Architects and Landscape Architects.\
 n\nCheck out the flyer below or reach out to Wanda at wrios@kseng.com for 
 more information or any questions. You'll get the access link from Wanda b
 efore the event.\n\n\n\n&nbsp\;
CATEGORIES:Social/PDH Event
LOCATION:Virtual Event\, Virtual\, New York\, United States
X-APPLE-STRUCTURED-LOCATION;VALUE=URI;X-ADDRESS=Virtual\, New York\, United
  States;X-APPLE-RADIUS=100;X-TITLE=Virtual Event:geo:0,0
END:VEVENT
BEGIN:VTIMEZONE
TZID:America/New_York
X-LIC-LOCATION:America/New_York
BEGIN:DAYLIGHT
DTSTART:20240310T030000
TZOFFSETFROM:-0500
TZOFFSETTO:-0400
TZNAME:EDT
END:DAYLIGHT
END:VTIMEZONE
END:VCALENDAR