BEGIN:VCALENDAR
VERSION:2.0
PRODID:-//wp-events-plugin.com//7.2.3.1//EN
TZID:America/New_York
X-WR-TIMEZONE:America/New_York
BEGIN:VEVENT
UID:80@nysspe-nyc.org
DTSTART;TZID=America/New_York:20210526T173000
DTEND;TZID=America/New_York:20210526T200000
DTSTAMP:20210825T192835Z
URL:https://nysspe-nyc.org/events/may-2021-event/
SUMMARY:May 2021 Event
DESCRIPTION:President of the MTA Long Island Rail Road\, Phillip Eng PE\, w
 ill deliver a presentation to our chapter titled "LIRR - Bringing The Futu
 re Forward with Technology Innovation". Join us for a virtual meeting and 
 get 1 PDH. Link to access to the virtual meeting will be emailed to attend
 ees following registration. See Flyer below for more details.\n\n&nbsp\;\n
 \n\n\n&nbsp\;\n\n&nbsp\;\n\n&nbsp\;
CATEGORIES:Social/PDH Event
END:VEVENT
BEGIN:VTIMEZONE
TZID:America/New_York
X-LIC-LOCATION:America/New_York
BEGIN:DAYLIGHT
DTSTART:20210314T030000
TZOFFSETFROM:-0500
TZOFFSETTO:-0400
TZNAME:EDT
END:DAYLIGHT
END:VTIMEZONE
END:VCALENDAR