BEGIN:VCALENDAR
VERSION:2.0
PRODID:-//wp-events-plugin.com//7.2.3.1//EN
TZID:America/New_York
X-WR-TIMEZONE:America/New_York
BEGIN:VEVENT
UID:133@nysspe-nyc.org
DTSTART;TZID=America/New_York:20260325T173000
DTEND;TZID=America/New_York:20260325T190000
DTSTAMP:20260213T212118Z
URL:https://nysspe-nyc.org/events/march-2026-event/
SUMMARY:March 2026 Event
DESCRIPTION:The New York Chapter of NYSSPE is thrilled to announce a specia
 l event on Wednesday\, March 25\, 2026.\nWe are honored to welcome Romolo 
 De Santis\, PE\, SVP\, Program Executive &amp\; Chief Engineer\, MTA Const
 ruction &amp\; Development – Bridges and Tunnels Business Unit\, as our 
 guest speaker.\nTopic: “Robert F. Kennedy Bridge: Suspended Span Rehabil
 itation.”\nThe event will take place at The Cornell Club of New York Cit
 y – The Ivy Room from 5:30 PM to 7:00 PM.\nJoin us for dinner\, networki
 ng\, and earn a PDH.\nFor details or questions\, please contact: Dianna Ke
 able at dianna.keable@vrxglobal.com\n
CATEGORIES:Educational function,Social/PDH Event
LOCATION:The Cornell Club - Ivy Room\, 6 East 44th St\, New York\, NY\, 100
 17\, United States
X-APPLE-STRUCTURED-LOCATION;VALUE=URI;X-ADDRESS=6 East 44th St\, New York\,
  NY\, 10017\, United States;X-APPLE-RADIUS=100;X-TITLE=The Cornell Club - 
 Ivy Room:geo:0,0
END:VEVENT
BEGIN:VTIMEZONE
TZID:America/New_York
X-LIC-LOCATION:America/New_York
BEGIN:DAYLIGHT
DTSTART:20260308T030000
TZOFFSETFROM:-0500
TZOFFSETTO:-0400
TZNAME:EDT
END:DAYLIGHT
END:VTIMEZONE
END:VCALENDAR