BEGIN:VCALENDAR
VERSION:2.0
PRODID:-//wp-events-plugin.com//7.2.3.1//EN
TZID:America/New_York
X-WR-TIMEZONE:America/New_York
BEGIN:VEVENT
UID:103@nysspe-nyc.org
DTSTART;TZID=America/New_York:20240320T173000
DTEND;TZID=America/New_York:20240320T183000
DTSTAMP:20240220T213726Z
URL:https://nysspe-nyc.org/events/march-2024-event/
SUMMARY:March 2024 Event
DESCRIPTION:The NYSSPE's New York Chapter is thrilled to announce a Virtual
  Presentation on Wednesday\, March 20. We're delighted to welcome Meera Ra
 mesh\, PhD\, PE from Ryan Biggs Clark Davis Engineering &amp\; Surveying\,
  as our featured speaker. Attendees will earn 1 PDH credit for joining. Yo
 u'll get the access link from Wanda before the event. Check out the flyer 
 below or reach out to Wanda at wrios@kseng.com for more information or any
  questions.\n\n
CATEGORIES:Social/PDH Event
LOCATION:Virtual Event\, Virtual\, New York\, United States
X-APPLE-STRUCTURED-LOCATION;VALUE=URI;X-ADDRESS=Virtual\, New York\, United
  States;X-APPLE-RADIUS=100;X-TITLE=Virtual Event:geo:0,0
END:VEVENT
BEGIN:VTIMEZONE
TZID:America/New_York
X-LIC-LOCATION:America/New_York
BEGIN:DAYLIGHT
DTSTART:20240310T030000
TZOFFSETFROM:-0500
TZOFFSETTO:-0400
TZNAME:EDT
END:DAYLIGHT
END:VTIMEZONE
END:VCALENDAR