BEGIN:VCALENDAR
VERSION:2.0
PRODID:-//wp-events-plugin.com//7.2.3.1//EN
TZID:America/New_York
X-WR-TIMEZONE:America/New_York
BEGIN:VEVENT
UID:94@nysspe-nyc.org
DTSTART;TZID=America/New_York:20230329T173000
DTEND;TZID=America/New_York:20230329T200000
DTSTAMP:20230329T194339Z
URL:https://nysspe-nyc.org/events/march-2023/
SUMMARY:March 2023 Event
DESCRIPTION:The New York Chapter of NYSSPE is excited to host an special ev
 ent on Wednesday\, March 29. We are honored to have NYCDDC First Deputy Co
 mmissioner\, Eric Macfarlane\, as the speaker for the event. The presentat
 ion is titled ” NYC East Side Coastal Resilience - Project Update”.\n\
 nThe event will take place at the Cornell Club of New York City. Come and 
 join us for dinner and networking and get 1 PDH. Each person gets a FREE d
 rink with each ticket. See Flyer below or contact Wanda Rios (wrios@kseng.
 com) for details or questions.\n\n\n\n&nbsp\;
CATEGORIES:Social/PDH Event
LOCATION:The Cornell Club - Ivy Room\, 6 East 44th St\, New York\, NY\, 100
 17\, United States
X-APPLE-STRUCTURED-LOCATION;VALUE=URI;X-ADDRESS=6 East 44th St\, New York\,
  NY\, 10017\, United States;X-APPLE-RADIUS=100;X-TITLE=The Cornell Club - 
 Ivy Room:geo:0,0
END:VEVENT
BEGIN:VTIMEZONE
TZID:America/New_York
X-LIC-LOCATION:America/New_York
BEGIN:DAYLIGHT
DTSTART:20230312T030000
TZOFFSETFROM:-0500
TZOFFSETTO:-0400
TZNAME:EDT
END:DAYLIGHT
END:VTIMEZONE
END:VCALENDAR