BEGIN:VCALENDAR
VERSION:2.0
PRODID:-//wp-events-plugin.com//7.2.3.1//EN
TZID:America/New_York
X-WR-TIMEZONE:America/New_York
BEGIN:VEVENT
UID:120@nysspe-nyc.org
DTSTART;TZID=America/New_York:20250617T173000
DTEND;TZID=America/New_York:20250617T200000
DTSTAMP:20250613T202308Z
URL:https://nysspe-nyc.org/events/june-2025-event/
SUMMARY:June 2025 Event
DESCRIPTION:The New York Chapter of NYSSPE is thrilled to announce a specia
 l event on Tuesday\, June 17.We are honored to welcome Rizwan Baig\, P.E.\
 , Chief Engineer of the Port Authority of New York and New Jersey\, as our
  guest speaker.\nTopic: “My Story: An Inspiring Conversation About Engin
 eering\, Perseverance\, and Leadership Through the Eyes of the PA Chief En
 gineer.”\nThe event will take place at The Cornell Club of New York City
 .Join us for dinner and networking.\nFor details or questions\, please con
 tact: Wanda Rios at wrios@kseng.com\n\n\n&nbsp\;\n\n&nbsp\;
CATEGORIES:Social/Scholar Awards Presentations
LOCATION:The Cornell Club - Ivy Room\, 6 East 44th St\, New York\, NY\, 100
 17\, United States
X-APPLE-STRUCTURED-LOCATION;VALUE=URI;X-ADDRESS=6 East 44th St\, New York\,
  NY\, 10017\, United States;X-APPLE-RADIUS=100;X-TITLE=The Cornell Club - 
 Ivy Room:geo:0,0
END:VEVENT
BEGIN:VTIMEZONE
TZID:America/New_York
X-LIC-LOCATION:America/New_York
BEGIN:DAYLIGHT
DTSTART:20250309T030000
TZOFFSETFROM:-0500
TZOFFSETTO:-0400
TZNAME:EDT
END:DAYLIGHT
END:VTIMEZONE
END:VCALENDAR