BEGIN:VCALENDAR
VERSION:2.0
PRODID:-//wp-events-plugin.com//7.2.3.1//EN
TZID:America/New_York
X-WR-TIMEZONE:America/New_York
BEGIN:VEVENT
UID:114@nysspe-nyc.org
DTSTART;TZID=America/New_York:20240620T173000
DTEND;TZID=America/New_York:20240620T200000
DTSTAMP:20240508T190358Z
URL:https://nysspe-nyc.org/events/june-2024-event/
SUMMARY:June 2024 Event
DESCRIPTION:The New York Chapter of NYSSPE is excited to host a special eve
 nt on Thursday\, June 20. We are honored to have Diane L. Kenneally\, PE\,
  Senior Vice President of Corporate Performance\, Construction &amp\; Deve
 lopment at the Metropolitan Transportation Authority\, as the speaker for 
 the event. The presentation is titled ”MTA Construction &amp\; Developme
 nt - Our Sustainable Future”.\n\nThe event will take place at the Cornel
 l Club of New York City. Come and join us for dinner and networking\, and 
 get 1 PDH. Each person gets a FREE drink with each ticket. See the Flyer b
 elow or contact Wanda Rios (wrios@kseng.com) for details or questions.\n\n
CATEGORIES:Social/PDH Event
LOCATION:The Cornell Club - Ivy Room\, 6 East 44th St\, New York\, NY\, 100
 17\, United States
X-APPLE-STRUCTURED-LOCATION;VALUE=URI;X-ADDRESS=6 East 44th St\, New York\,
  NY\, 10017\, United States;X-APPLE-RADIUS=100;X-TITLE=The Cornell Club - 
 Ivy Room:geo:0,0
END:VEVENT
BEGIN:VTIMEZONE
TZID:America/New_York
X-LIC-LOCATION:America/New_York
BEGIN:DAYLIGHT
DTSTART:20240310T030000
TZOFFSETFROM:-0500
TZOFFSETTO:-0400
TZNAME:EDT
END:DAYLIGHT
END:VTIMEZONE
END:VCALENDAR