BEGIN:VCALENDAR
VERSION:2.0
PRODID:-//wp-events-plugin.com//7.2.3.1//EN
TZID:America/New_York
X-WR-TIMEZONE:America/New_York
BEGIN:VEVENT
UID:91@nysspe-nyc.org
DTSTART;TZID=America/New_York:20220622T173000
DTEND;TZID=America/New_York:20220622T200000
DTSTAMP:20220607T100904Z
URL:https://nysspe-nyc.org/events/june-2022/
SUMMARY:JUNE 2022 Event
DESCRIPTION:Join our Chapter to award outstanding NYC High School Students 
 with College Scholarships and meet the President of MTA (Jamie Torres - Sp
 ringer) this June 22. Jamie will give a presentation titled " Sustainabili
 ty\, Resiliency\, and MTA Construction &amp\; Development". Participants w
 ill receive dinner and 1 PDH credit for attending this event. The event wi
 ll take place in the Cornell Club of New York City. Come and join us!. See
  Flyer below or contact Wanda Rios (wrios@kseng.com) for details or questi
 ons.\n\n&nbsp\;\n\n
CATEGORIES:Social/PDH Event
LOCATION:The Cornell Club - Ivy Room\, 6 East 44th St\, New York\, NY\, 100
 17\, United States
X-APPLE-STRUCTURED-LOCATION;VALUE=URI;X-ADDRESS=6 East 44th St\, New York\,
  NY\, 10017\, United States;X-APPLE-RADIUS=100;X-TITLE=The Cornell Club - 
 Ivy Room:geo:0,0
END:VEVENT
BEGIN:VTIMEZONE
TZID:America/New_York
X-LIC-LOCATION:America/New_York
BEGIN:DAYLIGHT
DTSTART:20220313T030000
TZOFFSETFROM:-0500
TZOFFSETTO:-0400
TZNAME:EDT
END:DAYLIGHT
END:VTIMEZONE
END:VCALENDAR