BEGIN:VCALENDAR
VERSION:2.0
PRODID:-//wp-events-plugin.com//7.2.3.1//EN
TZID:America/New_York
X-WR-TIMEZONE:America/New_York
BEGIN:VEVENT
UID:81@nysspe-nyc.org
DTSTART;TZID=America/New_York:20210616T173000
DTEND;TZID=America/New_York:20210616T200000
DTSTAMP:20210608T013738Z
URL:https://nysspe-nyc.org/events/june-2021/
SUMMARY:Virtual Scholarship Awards Banquet & Engineering Professionals Pane
 l
DESCRIPTION:A virtual meeting to award outstanding NYC High School Students
  with College Scholarships. Join us to share your own experiences and to h
 ear from our panel of lifelong Professional Engineers from both the Public
  and Private Sector\, what inspired them to choose their career path\, and
  what they have learned along the way. PDH Hours will not be provided. See
  Flyer below for more details.\n\n\n\n&nbsp\;\n\n&nbsp\;
CATEGORIES:Educational Event
END:VEVENT
BEGIN:VTIMEZONE
TZID:America/New_York
X-LIC-LOCATION:America/New_York
BEGIN:DAYLIGHT
DTSTART:20210314T030000
TZOFFSETFROM:-0500
TZOFFSETTO:-0400
TZNAME:EDT
END:DAYLIGHT
END:VTIMEZONE
END:VCALENDAR