BEGIN:VCALENDAR
VERSION:2.0
PRODID:-//wp-events-plugin.com//7.2.3.1//EN
TZID:America/New_York
X-WR-TIMEZONE:America/New_York
BEGIN:VEVENT
UID:46@nysspe-nyc.org
DTSTART;TZID=America/New_York:20201202T170000
DTEND;TZID=America/New_York:20201202T180000
DTSTAMP:20201026T040218Z
URL:https://nysspe-nyc.org/events/board-call-december/
SUMMARY:Board Call December
DESCRIPTION:Directors are welcome to join us in our Monthly Board Calls. We
  are temporarily holding our meetings virtual. Contact lmartinek@samschwar
 tz.com if you are interested to get more involved in the chapter.
CATEGORIES:Administration Event
LOCATION:Conference Call\, Conference Call\, New York\, United States
X-APPLE-STRUCTURED-LOCATION;VALUE=URI;X-ADDRESS=Conference Call\, New York\
 , United States;X-APPLE-RADIUS=100;X-TITLE=Conference Call:geo:0,0
END:VEVENT
BEGIN:VTIMEZONE
TZID:America/New_York
X-LIC-LOCATION:America/New_York
BEGIN:STANDARD
DTSTART:20201101T010000
TZOFFSETFROM:-0400
TZOFFSETTO:-0500
TZNAME:EST
END:STANDARD
END:VTIMEZONE
END:VCALENDAR