BEGIN:VCALENDAR
VERSION:2.0
PRODID:-//wp-events-plugin.com//7.2.3.1//EN
TZID:America/New_York
X-WR-TIMEZONE:America/New_York
BEGIN:VEVENT
UID:88@nysspe-nyc.org
DTSTART;TZID=America/New_York:20220420T173000
DTEND;TZID=America/New_York:20220420T200000
DTSTAMP:20220426T162818Z
URL:https://nysspe-nyc.org/events/april-2022-event/
SUMMARY:April 2022 Event
DESCRIPTION:The New York Chapter of NYSSPE is excited to host another in-pe
 rson event on April 20. We are honored to have NYCDDC Deputy Commissioner\
 , Eric Macfarlane\, and Associate Commissioner\, Ali Mallick\,  as the sp
 eakers for the event. The presentation is titled " New York City State of 
 Infrastructure and Coastal Resilience". Participants will receive dinner a
 nd 1 PDH credit for attending this event.\n\nThe event will take place in 
 the Cornell Club of New York City. Come and join us to network with the Co
 mmissioner and with your colleagues in the industry. We will follow the NY
 C Protocol on Covid 19 for Indoor Dining. See Flyer below or contact Wanda
  Rios (wrios@kseng.com) for details or questions.\n\n&nbsp\;\n\n
CATEGORIES:Social/PDH Event
LOCATION:The Cornell Club - Ivy Room\, 6 East 44th St\, New York\, NY\, 100
 17\, United States
X-APPLE-STRUCTURED-LOCATION;VALUE=URI;X-ADDRESS=6 East 44th St\, New York\,
  NY\, 10017\, United States;X-APPLE-RADIUS=100;X-TITLE=The Cornell Club - 
 Ivy Room:geo:0,0
END:VEVENT
BEGIN:VTIMEZONE
TZID:America/New_York
X-LIC-LOCATION:America/New_York
BEGIN:DAYLIGHT
DTSTART:20220313T030000
TZOFFSETFROM:-0500
TZOFFSETTO:-0400
TZNAME:EDT
END:DAYLIGHT
END:VTIMEZONE
END:VCALENDAR